BEGIN:VCALENDAR
VERSION:2.0
PRODID:-//pretix//pretix.eu//
BEGIN:VTIMEZONE
TZID:Europe/Berlin
BEGIN:STANDARD
DTSTART:20001029T040000
RRULE:FREQ=YEARLY;BYDAY=-1SU;BYMONTH=10
TZNAME:CET
TZOFFSETFROM:+0200
TZOFFSETTO:+0100
END:STANDARD
BEGIN:DAYLIGHT
DTSTART:20000326T030000
RRULE:FREQ=YEARLY;BYDAY=-1SU;BYMONTH=3
TZNAME:CEST
TZOFFSETFROM:+0100
TZOFFSETTO:+0200
END:DAYLIGHT
END:VTIMEZONE
BEGIN:VEVENT
UID:pretix-oskar-konzerte-s8ppa-0@oskar-konzerte.fairetickets.de
DTSTART;TZID=Europe/Berlin:20240303T190000
DTEND;TZID=Europe/Berlin:20240303T200000
DESCRIPTION:Tickets: https://oskar-konzerte.fairetickets.de/s8ppa/\nEinlass
 : 03.03.2024 18:00\nVeranstalter: OSKAR KONZERTE
DTSTAMP:20260422T162749Z
LOCATION:Stadtsaal\, Stadtplatz 108\, 84489 Burghausen
SUMMARY:XX Herbert & Schnipsi - Best-of: Zeitreise mit Schlaglöchern (Stad
 tsaal/Burghausen)
END:VEVENT
END:VCALENDAR
